BEGIN:VCALENDAR
VERSION:2.0
PRODID:-//The Sealed Knot - ECPv6.15.20//NONSGML v1.0//EN
CALSCALE:GREGORIAN
METHOD:PUBLISH
X-ORIGINAL-URL:https://www.thesealedknot.org.uk
X-WR-CALDESC:Events for The Sealed Knot
REFRESH-INTERVAL;VALUE=DURATION:PT1H
X-Robots-Tag:noindex
X-PUBLISHED-TTL:PT1H
BEGIN:VTIMEZONE
TZID:UTC
BEGIN:STANDARD
TZOFFSETFROM:+0000
TZOFFSETTO:+0000
TZNAME:UTC
DTSTART:20180101T000000
END:STANDARD
END:VTIMEZONE
BEGIN:VEVENT
DTSTART;VALUE=DATE:20190126
DTEND;VALUE=DATE:20190127
DTSTAMP:20260425T220308
CREATED:20220302T121146Z
LAST-MODIFIED:20220302T121146Z
UID:10000377-1548460800-1548547199@www.thesealedknot.org.uk
SUMMARY:The Battle Of Nantwich
DESCRIPTION:Come and see our annual Holly Holy Day event in the old market town of Nantwich. Every year hundreds of re-enactors decend on the town to commerate the battle held in 1644. With various displays\, parades all culminating in a large battle fought in the town on Mill Island this is an excellent day out.
URL:https://www.thesealedknot.org.uk/event/the-battle-of-nantwich/
LOCATION:Cheshire
END:VEVENT
END:VCALENDAR