BEGIN:VCALENDAR
VERSION:2.0
PRODID:-//The Sealed Knot - ECPv6.15.20//NONSGML v1.0//EN
CALSCALE:GREGORIAN
METHOD:PUBLISH
X-WR-CALNAME:The Sealed Knot
X-ORIGINAL-URL:https://www.thesealedknot.org.uk
X-WR-CALDESC:Events for The Sealed Knot
REFRESH-INTERVAL;VALUE=DURATION:PT1H
X-Robots-Tag:noindex
X-PUBLISHED-TTL:PT1H
BEGIN:VTIMEZONE
TZID:UTC
BEGIN:STANDARD
TZOFFSETFROM:+0000
TZOFFSETTO:+0000
TZNAME:UTC
DTSTART:20180101T000000
END:STANDARD
END:VTIMEZONE
BEGIN:VEVENT
DTSTART;VALUE=DATE:20190526
DTEND;VALUE=DATE:20190528
DTSTAMP:20260425T174656
CREATED:20220302T124939Z
LAST-MODIFIED:20220302T124939Z
UID:10000386-1558828800-1559001599@www.thesealedknot.org.uk
SUMMARY:The Battle For Deene Park
DESCRIPTION:This Spring Bank Holiday\, the Sealed Knot will bring the sights and sounds of the English Civil Wars to Deene Park. The ancestral home of the Brudenell family was seized at the time by Parliamentary troops. \nWe’ll be creating the battle to seize Deene Park. This beautiful estate will echo to the sound of musket and cannon fire\, the steady beat of the drums\, the charge of cavalry and the clash of pike. Our Living History camp will bring to life both military and civilian life during the 17th century \nOpens 12.00 mid-day. \nThe battle starts at around 2.00pm. \nEntry (Sealed Knot Battle and Living History) \n£5 per person for over 16’s \nFREE for those aged 16 years and younger \nTickets available on the day or in advance (go to ‘event tickets’ on this website) \nAdjacent to the Sealed Knot event site is Deene House and Gardens. There is an additional entry charge to visit these. Deene Park Gardens and Tea Room open 12-5pm\, House opens at 2pm. Last admission to the House is 4pm. \nLocation: Deene Park\, Corby\, Northamptonshire\, NN17 3EW. \nFor more information on Deene Park please go to link
URL:https://www.thesealedknot.org.uk/event/the-battle-for-deene-park/
LOCATION:Cheshire
ATTACH;FMTTYPE=image/jpeg:https://www.thesealedknot.org.uk/wp-content/uploads/2022/03/DP-Musket-2.jpg
END:VEVENT
BEGIN:VEVENT
DTSTART;VALUE=DATE:20190601
DTEND;VALUE=DATE:20190603
DTSTAMP:20260425T174656
CREATED:20220302T125210Z
LAST-MODIFIED:20220302T125210Z
UID:10000387-1559347200-1559519999@www.thesealedknot.org.uk
SUMMARY:Pontefract Castle
DESCRIPTION:During the Civil War\, Pontefract Castle was the site of no less than three bitter sieges. At the start of the second war\, John Morris\, and a few of his supporters\, snuck into the castle by pretending to bring in beds for the garrison. These Royalists then held the castle for nine months. However\, when the King was executed they had to surrender and Morris was executed for treason. \nThis June\, step back in time to the bloody 17th century\, and find out what life was like during that turbulent\, tumultuous time: brother against brother\, neighbour against neighbour – and a castle under attack! \nThe Earl of Manchesters Regiment of Foote will bring the experience of being besieged vividly to life. Be amazed by their explosive gun displays\, and marvel at the mighty siege engines. \nThis event is FREE\, and there is no need to book. Just come along and join in the fun! \nThink you’d make a fine Civil War soldier? Then you and your family can put yourselves to the test with our climbing wall – will you make it to the top? \nPontefract Castle – link
URL:https://www.thesealedknot.org.uk/event/pontefract-castle/
LOCATION:Cheshire
ATTACH;FMTTYPE=image/jpeg:https://www.thesealedknot.org.uk/wp-content/uploads/2022/03/Pontefract-June19.jpg
END:VEVENT
END:VCALENDAR