BEGIN:VCALENDAR
VERSION:2.0
PRODID:-//The Sealed Knot - ECPv6.15.20//NONSGML v1.0//EN
CALSCALE:GREGORIAN
METHOD:PUBLISH
X-WR-CALNAME:The Sealed Knot
X-ORIGINAL-URL:https://www.thesealedknot.org.uk
X-WR-CALDESC:Events for The Sealed Knot
REFRESH-INTERVAL;VALUE=DURATION:PT1H
X-Robots-Tag:noindex
X-PUBLISHED-TTL:PT1H
BEGIN:VTIMEZONE
TZID:UTC
BEGIN:STANDARD
TZOFFSETFROM:+0000
TZOFFSETTO:+0000
TZNAME:UTC
DTSTART:20180101T000000
END:STANDARD
END:VTIMEZONE
BEGIN:VEVENT
DTSTART;VALUE=DATE:20190608
DTEND;VALUE=DATE:20190610
DTSTAMP:20260425T161224
CREATED:20220302T125729Z
LAST-MODIFIED:20220302T125729Z
UID:10000388-1559952000-1560124799@www.thesealedknot.org.uk
SUMMARY:Upnor Castle - The Dutch Are Coming!
DESCRIPTION:Relive the Dutch raid of 1647\, when they sailed up the river to attach the English Fleet. \nExperience and enjoy this full day of displays by The Sealed Knot in this Elizabethan artillery fort\, set against the backdrop of a picturesque village. \nUpnor Castle Upper Upnor\, ME2 4 Rochester\, Medway \nGeneral Admissions\nAdult: £6.40\nConcession/child: £4\nFamily: £16.80 \nEnglish Heritage Members\nAdult: £3.20\nConcession/child: £2\nFamily: £8.40 \nFor more information go to – www.visitmedway.org/whats-on/find-events/
URL:https://www.thesealedknot.org.uk/event/upnor-castle-the-dutch-are-coming/
LOCATION:Cheshire
ATTACH;FMTTYPE=image/jpeg:https://www.thesealedknot.org.uk/wp-content/uploads/2022/03/upnor-7.jpg
END:VEVENT
BEGIN:VEVENT
DTSTART;VALUE=DATE:20190608
DTEND;VALUE=DATE:20190610
DTSTAMP:20260425T161224
CREATED:20220302T130238Z
LAST-MODIFIED:20220302T130238Z
UID:10000389-1559952000-1560124799@www.thesealedknot.org.uk
SUMMARY:Siege Of Bolsover Castle
DESCRIPTION:It’s the Civil War and the Duke of Newcastle is nervously awaiting the Parliamentarian armies to arrive at the doorstep of his home at Bolsover Castle… \nThis June\, we are re-enacting the dreaded 1644 siege of Bolsover Castle. See the soldiers prepare for battle as they sharpen their swords\, prepare their muskets and fight for king and country. Hear the thunder of canons and experience a real piece of history as the two armies clashes. \nFor details on tickets and the full timetable please go to –https://www.english-heritage.org.uk/visit/whats-on/bolsover-siege-8-9-jun-2019/
URL:https://www.thesealedknot.org.uk/event/siege-of-bolsover-castle/
LOCATION:Cheshire
ATTACH;FMTTYPE=image/jpeg:https://www.thesealedknot.org.uk/wp-content/uploads/2022/03/Bolsover-2019.jpg
END:VEVENT
END:VCALENDAR