BEGIN:VCALENDAR
VERSION:2.0
PRODID:-//The Sealed Knot - ECPv6.15.20//NONSGML v1.0//EN
CALSCALE:GREGORIAN
METHOD:PUBLISH
X-WR-CALNAME:The Sealed Knot
X-ORIGINAL-URL:https://www.thesealedknot.org.uk
X-WR-CALDESC:Events for The Sealed Knot
REFRESH-INTERVAL;VALUE=DURATION:PT1H
X-Robots-Tag:noindex
X-PUBLISHED-TTL:PT1H
BEGIN:VTIMEZONE
TZID:UTC
BEGIN:STANDARD
TZOFFSETFROM:+0000
TZOFFSETTO:+0000
TZNAME:UTC
DTSTART:20180101T000000
END:STANDARD
END:VTIMEZONE
BEGIN:VEVENT
DTSTART;VALUE=DATE:20190727
DTEND;VALUE=DATE:20190729
DTSTAMP:20260420T031502
CREATED:20220302T132143Z
LAST-MODIFIED:20220302T132143Z
UID:10000396-1564185600-1564358399@www.thesealedknot.org.uk
SUMMARY:Cheriton 375
DESCRIPTION:Cheriton is one of the major battles of the English Civil War. 375 years on from the original battle\, we’ll be bringing the sight and sounds of the conflict to life. \nThe viewing activities will centre on a series of re-enactments demonstrating the development of Warfare through the ages from medieval knights to American Civil War Yankees and Rebels. The military viewing activities will comprise three principle elements: \n\nA series of Living History camps which you can tour\, view and engage re-enactors to see\, feel and experience life in the Middle Ages\, the seventeenth Century (Civil War) and the eighteenth Century (Napoleonic and ACW Periods)\nArena displays\, throughout the day with drill displays and skirmishes in the main arena\nBattle re-enactments\n\nThe centrepiece of the day is large scale re-creation of the Battle of Cheriton by The Sealed Knot\, Cheriton was a key battle in the English Civil Wars and was fought 375 years ago. The re-enactment is taking place on the original battlefield! \nThere will also be: \n\nHave-a-go Archery (with the Alton and Fourmarks Archery Club)\nCharity craft stalls – Naomi House\, Royal British Legion\, Help for Heroes etc\n\nThe site will offer a selection of food and drink outlets\, being provided by professional event caterers and an excellent beer tent selling alcoholic and non-alcoholic beverages. \nThe show will be open both days from 10.30hrs until 16.30hrs and comprise viewing and participation activities for all of the family.  The audience profile is definitely family-orientated with a range of activities to give visitors a really full day of entertainment. \nTo book advance tickets go to the ‘Book Tickets’ section of this website.
URL:https://www.thesealedknot.org.uk/event/cheriton-375/
LOCATION:West Yorkshire
END:VEVENT
END:VCALENDAR