BEGIN:VCALENDAR
VERSION:2.0
PRODID:-//The Sealed Knot - ECPv6.15.20//NONSGML v1.0//EN
CALSCALE:GREGORIAN
METHOD:PUBLISH
X-WR-CALNAME:The Sealed Knot
X-ORIGINAL-URL:https://www.thesealedknot.org.uk
X-WR-CALDESC:Events for The Sealed Knot
REFRESH-INTERVAL;VALUE=DURATION:PT1H
X-Robots-Tag:noindex
X-PUBLISHED-TTL:PT1H
BEGIN:VTIMEZONE
TZID:UTC
BEGIN:STANDARD
TZOFFSETFROM:+0000
TZOFFSETTO:+0000
TZNAME:UTC
DTSTART:20180101T000000
END:STANDARD
END:VTIMEZONE
BEGIN:VEVENT
DTSTART;VALUE=DATE:20190810
DTEND;VALUE=DATE:20190912
DTSTAMP:20260419T190346
CREATED:20220302T132614Z
LAST-MODIFIED:20220302T132614Z
UID:10000397-1565395200-1568246399@www.thesealedknot.org.uk
SUMMARY:Thirlestane Castle Civil War Re-enactment Weekend
DESCRIPTION:The Sealed Knot\, is coming back to Thirlestane Castle We will be delving into what it was like in the 17th Century for both the military and ordinary people. Soldiers\, muskets\, pikes and drums in drill displays\, life on the living history camp and a skirmish will be all part of the weekend. An education and an experience not to be missed! \nLink for tickets \nEntry includes admission to the castle.
URL:https://www.thesealedknot.org.uk/event/thirlestane-castle-civil-war-re-enactment-weekend/
LOCATION:West Yorkshire
ATTACH;FMTTYPE=image/jpeg:https://www.thesealedknot.org.uk/wp-content/uploads/2022/03/Thirlstane-2019-II.jpg
END:VEVENT
END:VCALENDAR