BEGIN:VCALENDAR
VERSION:2.0
PRODID:-//The Sealed Knot - ECPv6.15.20//NONSGML v1.0//EN
CALSCALE:GREGORIAN
METHOD:PUBLISH
X-ORIGINAL-URL:https://www.thesealedknot.org.uk
X-WR-CALDESC:Events for The Sealed Knot
REFRESH-INTERVAL;VALUE=DURATION:PT1H
X-Robots-Tag:noindex
X-PUBLISHED-TTL:PT1H
BEGIN:VTIMEZONE
TZID:UTC
BEGIN:STANDARD
TZOFFSETFROM:+0000
TZOFFSETTO:+0000
TZNAME:UTC
DTSTART:20180101T000000
END:STANDARD
END:VTIMEZONE
BEGIN:VEVENT
DTSTART;VALUE=DATE:20190810
DTEND;VALUE=DATE:20190912
DTSTAMP:20260419T190437
CREATED:20220302T132614Z
LAST-MODIFIED:20220302T132614Z
UID:10000397-1565395200-1568246399@www.thesealedknot.org.uk
SUMMARY:Thirlestane Castle Civil War Re-enactment Weekend
DESCRIPTION:The Sealed Knot\, is coming back to Thirlestane Castle We will be delving into what it was like in the 17th Century for both the military and ordinary people. Soldiers\, muskets\, pikes and drums in drill displays\, life on the living history camp and a skirmish will be all part of the weekend. An education and an experience not to be missed! \nLink for tickets \nEntry includes admission to the castle.
URL:https://www.thesealedknot.org.uk/event/thirlestane-castle-civil-war-re-enactment-weekend/
LOCATION:West Yorkshire
ATTACH;FMTTYPE=image/jpeg:https://www.thesealedknot.org.uk/wp-content/uploads/2022/03/Thirlstane-2019-II.jpg
END:VEVENT
BEGIN:VEVENT
DTSTART;VALUE=DATE:20190914
DTEND;VALUE=DATE:20190916
DTSTAMP:20260419T190437
CREATED:20220302T133439Z
LAST-MODIFIED:20220302T133439Z
UID:10000399-1568419200-1568591999@www.thesealedknot.org.uk
SUMMARY:Fernhurst Furnace Open Weekend
DESCRIPTION:Fernhurst Furnace Open Weekend \nFernhurst Furnace Iron Works and Gun Foundry. Fernhurst\, West Sussex. Access to the site is opposite the first ‘T’ junction approx. 60m east along Vann Road from Lower Lodge Candles (not the red location marker shown on this map). Entry to the site is clearly signposted during the event \nOpen: 10.30am – 5.00pm. \nEntry and parking free. Donations welcome towards the conservation of Fernhurst Furnace. \nAn action-packed day full of living history\, crafts\, displays and activities for all ages at this unique historical location. With the furnaces being part of the arms manufacturing industry in the English Civil War period it is fitting to have displays of cannon and musket and other arms  by the Sealed Knot. \nFind out more – http://www.fernhurstfurnace.co.uk/events.html
URL:https://www.thesealedknot.org.uk/event/fernhurst-furnace-open-weekend/
LOCATION:West Yorkshire
ATTACH;FMTTYPE=image/jpeg:https://www.thesealedknot.org.uk/wp-content/uploads/2022/03/fernhurst-1.jpg
END:VEVENT
BEGIN:VEVENT
DTSTART;VALUE=DATE:20190914
DTEND;VALUE=DATE:20190916
DTSTAMP:20260419T190437
CREATED:20220302T133642Z
LAST-MODIFIED:20220302T133642Z
UID:10000400-1568419200-1568591999@www.thesealedknot.org.uk
SUMMARY:The Siege Of Crowland Abbey
DESCRIPTION:The Siege of Crowland Abbey\n14-15 September 2019\n\n\nCrowland Abbey\, 46 East St\, Crowland\, Peterborough. PE6 0EN\n\n\n \n\n\nThe Cittie of London Brigade and friends from The Sealed Knot will be back in Crowland Abbey to re-enact the SIEGE OF CROWLAND ABBEY in 1643 – a unique example of how local the Civil Wars were and this one is full of twists! Check out this video from last time – https://www.youtube.com/watch?v=M_9NxVmGwPg\n\n\n \n\n\nA FULL WEEKEND OF EVENTS AROUND CROWLAND ABBEY\n\n\nThis time we are pulling out all the stops – more soldiers\, cannons & mortar\, Living History Camp and displays\, cavalry parades\, a torch-lit Night March into Crowland by Oliver Cromwell’ s Regiment\, followed by a spectacular Night Battle\, with a Firework Finale!\n\n\n \n\n\nSATURDAY: EVENT start at Trinity Bridge at 11.15am\, marching around to Crowland Abbey for Living History Camps Displays and Skirmishing throughout the day. 7.15pm TORCH-LIT PARADE – Cromwell Marches into Crowland with Cavalry\, Artillery\, Musketeers and Pikemen. 7.40pm NIGHT BATTLE concluded with FIREWORKS.\n\n\n \n\n\nSATURDAY NIGHT IN THE BEER TENT – Ticket Event from 8.30pm The Fabulous HOUNDOGS.\n\n\nBUY WRISTBANDS FROM CROWLAND ABBEY\n\n\n \n\n\nSUNDAY: 11.00 am Holy Communion in Crowland Abbey; EVENTS start at Trinity Bridge at 12.15pm\, marching to Crowland Abbey for Living History Camps \, Displays & Skirmishing . EVENT CLOSES AT 4.30pm.\n\n\n \n\n\n£5 to purchase your Reenactment Weekend Wristband [16 years and over]\n\n\n£10 to purchase your Saturday night HOUNDOGS Wristband.\n\n\nTo find out more about the history of Crwland Abbey – https://www.crowlandabbey.org.uk/\n\n\n \n\n\nMembers of the Sealed Knot: This is a booked event only hosted by Cittie of London Brigade.
URL:https://www.thesealedknot.org.uk/event/the-siege-of-crowland-abbey/
LOCATION:West Yorkshire
ATTACH;FMTTYPE=image/png:https://www.thesealedknot.org.uk/wp-content/uploads/2022/03/Crowland-3.png
END:VEVENT
END:VCALENDAR