BEGIN:VCALENDAR
VERSION:2.0
PRODID:-//The Sealed Knot - ECPv6.15.20//NONSGML v1.0//EN
CALSCALE:GREGORIAN
METHOD:PUBLISH
X-ORIGINAL-URL:https://www.thesealedknot.org.uk
X-WR-CALDESC:Events for The Sealed Knot
REFRESH-INTERVAL;VALUE=DURATION:PT1H
X-Robots-Tag:noindex
X-PUBLISHED-TTL:PT1H
BEGIN:VTIMEZONE
TZID:UTC
BEGIN:STANDARD
TZOFFSETFROM:+0000
TZOFFSETTO:+0000
TZNAME:UTC
DTSTART:20180101T000000
END:STANDARD
END:VTIMEZONE
BEGIN:VEVENT
DTSTART;VALUE=DATE:20191026
DTEND;VALUE=DATE:20191028
DTSTAMP:20260420T031526
CREATED:20220302T133904Z
LAST-MODIFIED:20220302T133904Z
UID:10000401-1572048000-1572220799@www.thesealedknot.org.uk
SUMMARY:Battle Of Edgehill
DESCRIPTION:Battle of Edgehill \n26-27 October 2019 \nKineton Sports & Social Club\, Bridge Street\, Norton Grange\, Little Kineton\, CV35 0DP \nOpens: 12.00 mid-day \nSkirmish 2.30pm \nOur annual skirmish to commemorate the Battle of Edgehill (or the ‘Kineton fight’ as it was also known). This was the opening battle of the English Civil War in October 1642. \nPlus\, a small living history camp. \nBeer and cider festival on in the Sports & Social club.
URL:https://www.thesealedknot.org.uk/event/battle-of-edgehill/
LOCATION:West Yorkshire
ATTACH;FMTTYPE=image/jpeg:https://www.thesealedknot.org.uk/wp-content/uploads/2022/02/Edgehill-2019.jpg
END:VEVENT
END:VCALENDAR