BEGIN:VCALENDAR
VERSION:2.0
PRODID:-//The Sealed Knot - ECPv6.15.20//NONSGML v1.0//EN
CALSCALE:GREGORIAN
METHOD:PUBLISH
X-ORIGINAL-URL:https://www.thesealedknot.org.uk
X-WR-CALDESC:Events for The Sealed Knot
REFRESH-INTERVAL;VALUE=DURATION:PT1H
X-Robots-Tag:noindex
X-PUBLISHED-TTL:PT1H
BEGIN:VTIMEZONE
TZID:Europe/London
BEGIN:DAYLIGHT
TZOFFSETFROM:+0000
TZOFFSETTO:+0100
TZNAME:BST
DTSTART:20250330T010000
END:DAYLIGHT
BEGIN:STANDARD
TZOFFSETFROM:+0100
TZOFFSETTO:+0000
TZNAME:GMT
DTSTART:20251026T010000
END:STANDARD
BEGIN:DAYLIGHT
TZOFFSETFROM:+0000
TZOFFSETTO:+0100
TZNAME:BST
DTSTART:20260329T010000
END:DAYLIGHT
BEGIN:STANDARD
TZOFFSETFROM:+0100
TZOFFSETTO:+0000
TZNAME:GMT
DTSTART:20261025T010000
END:STANDARD
BEGIN:DAYLIGHT
TZOFFSETFROM:+0000
TZOFFSETTO:+0100
TZNAME:BST
DTSTART:20270328T010000
END:DAYLIGHT
BEGIN:STANDARD
TZOFFSETFROM:+0100
TZOFFSETTO:+0000
TZNAME:GMT
DTSTART:20271031T010000
END:STANDARD
END:VTIMEZONE
BEGIN:VEVENT
DTSTART;VALUE=DATE:20260207
DTEND;VALUE=DATE:20260209
DTSTAMP:20260421T153827
CREATED:20251230T111909Z
LAST-MODIFIED:20251230T114711Z
UID:10001187-1770422400-1770595199@www.thesealedknot.org.uk
SUMMARY:Royal Revenge: The Trial of the Regicides
DESCRIPTION:1:00 PM – 4:30 PM \nBook tickets \nAdmission: £15 adults\, £10 museum members/full time students/under 18s \nLocation: Huntington Town Hall \nColonel John Pickerings Regiment of foote\, (and friends from other Regiments of the Sealed Knot) working with our sponsor The Cromwell Museum\, once again brings you an immersive performance with an interpretation of real events. \nOur very first attempt at ‘Theatre’ 6 years ago recreated the Trail of Charles 1st – which we have performed 3 times – but this time we turn things on its head\, and characters from history who you would have originally seen as the King’s Judges are now the ones on Trial for their lives. \nFollowing the death of Oliver Cromwell and the restoration of the Monarchy under Charles 2nd the new King has issued ‘The Act of Oblivion’ stating all is forgiven for the horror of the Civil wars unless you were part of the Trial and execution of his late father. \nWe’re reconstructing these events from original trial records\, allowing you to experience them in an immersive way – other than a narrator\, YOU will be part of the audience to events in 1660 in the atmospheric surroundings of an historic courtroom. \nPerformances take place at 1pm\, 3.30pm and 6.30pm on Saturday 7 February; 10am\, 12.30pm and 3pm on Sunday 8 February 2026. \nBooking essential. Not suitable for children under 10. Performances last 90 minutes. \nBook tickets
URL:https://www.thesealedknot.org.uk/event/royal-revenge-the-trial-of-the-regicides/
LOCATION:Huntingdon Town Hall\, 53 High Street\, Huntingdon\, Cambridgeshire\, PE29 3AQ\, United Kingdom
END:VEVENT
END:VCALENDAR