BEGIN:VCALENDAR
VERSION:2.0
PRODID:-//The Sealed Knot - ECPv6.15.20//NONSGML v1.0//EN
CALSCALE:GREGORIAN
METHOD:PUBLISH
X-WR-CALNAME:The Sealed Knot
X-ORIGINAL-URL:https://www.thesealedknot.org.uk
X-WR-CALDESC:Events for The Sealed Knot
REFRESH-INTERVAL;VALUE=DURATION:PT1H
X-Robots-Tag:noindex
X-PUBLISHED-TTL:PT1H
BEGIN:VTIMEZONE
TZID:Europe/London
BEGIN:DAYLIGHT
TZOFFSETFROM:+0000
TZOFFSETTO:+0100
TZNAME:BST
DTSTART:20250330T010000
END:DAYLIGHT
BEGIN:STANDARD
TZOFFSETFROM:+0100
TZOFFSETTO:+0000
TZNAME:GMT
DTSTART:20251026T010000
END:STANDARD
BEGIN:DAYLIGHT
TZOFFSETFROM:+0000
TZOFFSETTO:+0100
TZNAME:BST
DTSTART:20260329T010000
END:DAYLIGHT
BEGIN:STANDARD
TZOFFSETFROM:+0100
TZOFFSETTO:+0000
TZNAME:GMT
DTSTART:20261025T010000
END:STANDARD
BEGIN:DAYLIGHT
TZOFFSETFROM:+0000
TZOFFSETTO:+0100
TZNAME:BST
DTSTART:20270328T010000
END:DAYLIGHT
BEGIN:STANDARD
TZOFFSETFROM:+0100
TZOFFSETTO:+0000
TZNAME:GMT
DTSTART:20271031T010000
END:STANDARD
END:VTIMEZONE
BEGIN:VEVENT
DTSTART;VALUE=DATE:20260503
DTEND;VALUE=DATE:20260505
DTSTAMP:20260421T061941
CREATED:20251125T163523Z
LAST-MODIFIED:20260404T154235Z
UID:10001186-1777766400-1777939199@www.thesealedknot.org.uk
SUMMARY:Deene Park Plundered
DESCRIPTION:About this event \nDEENE PARK PLUNDERED  \n“A noble legacy shaken by the storm of Civil War in Northamptonshire” \nA FULL DAY OF INTERACTIVE HISTORY FOR ALL THE FAMILY 3rd & 4th OF MAY 2026. \nWE INVITE YOU AND YOUR FAMILY TO STEP BACK IN HISTORY WITH US \nWatch and experience first-hand\, the thrill and excitement of large musket volleys\, pike engagements\, with drums and colours and the full panoply of the 17th Century. Soldiers and civilians demonstrate life during this turbulent period of history. \nMembers of the Sealed Knot will create a reenactment of fictional encounters between elements of Parliamentary and local Royalist forces with the finale each day being a battle involving hundreds of seventeenth century soldiers with accompanying cannon fire and cavalry charges. \nOur Living History encampment and activities tent will be open throughout the day and will give a close-up portrayal of life in the 17th Century and allow interaction between the public and re-enactors to both entertain and educate. \nThe Society and event organisers will showcase Local and National Heritage in a dedicated Heritage Zone. Visitors can meet heritage organisations\, societies and visitor attractions\, showcasing the county’s rich diversity of history and heritage. Food and Drink will also be on public sale. \nLocation: Deene Park Estate\, Northamptonshire\,  \nPorter Lodge Entrance: NN17 3EG (off the A43) \nEvent Opening Times. \n11.30am – 5pm Sunday 3rd of May 2026 \n11.30am – 4.30pm Monday 4th of May 2026 \nPerformance Times \nOur arena and timetabled displays are all included in your ticket price. \nThe main battle starts at 2:30 pm. \nAll Day Activities \n“Making History in Action Accessible – bringing the past to life to aid and benefit the future”.  \n\nWatch pre battle drill displays of Civil War soldiers\, drums\, colours and calvary\nExplore Civilian life in our Living History camp.\nTake part in our ‘have a go’ activities.\nComplete our kid’s activity sheets and treasure hunts.\nVisit our Heritage Zone showcasing Local and National history and heritage.\nWitness the spectacle of our main battle.\n\nFood and Drink \nFood and drink vendors are available on site\, or feel free to bring a picnic and enjoy your lunch whilst immersed in history. \nTicket Prices \n£20 Per Family (2 Adults & 3 Children) \n£10 Per Individual Adult \n£5 Concessions (OAP’S and Children under 16 years of age) \nCarers and Children under 5 enter free. \n \nPlease Note: Due to the nature of our displays\, loud noises from cannon and musket are a common occurrence\, please bear that in mind when looking to bring small children and dogs. We always advise bringing chairs for anyone who may have mobility issues\, and ear defenders for individuals with sensitivities to loud noise.
URL:https://www.thesealedknot.org.uk/event/deene-park-2/
LOCATION:Leicestershire
END:VEVENT
BEGIN:VEVENT
DTSTART;VALUE=DATE:20260509
DTEND;VALUE=DATE:20260510
DTSTAMP:20260421T061941
CREATED:20260414T173603Z
LAST-MODIFIED:20260414T173603Z
UID:10001198-1778284800-1778371199@www.thesealedknot.org.uk
SUMMARY:Golcar Lily Day
DESCRIPTION:Golcar Lily Day is an annual celebration of local community groups\, including a great multi-period living history area. \nWe’ll be showing 1640s cookery\, medicine and traditional crafts throughout the day\, alongside a pike display in the main arena and also a march through the town. \n\n\n\nThis is a completley free event! \n\nThere will be other groups and activities happening throughout the day such as:\n\nOther re-enactment groups\, showing life through the ages.\nA dance troupe\nGolcar stories\nFood & Drink
URL:https://www.thesealedknot.org.uk/event/golcar-lily-day/
LOCATION:Golcar Lily Day\, Church Street\, Golcar\, Huddersfield\, West Yorkshire\, HD7 4PC
END:VEVENT
END:VCALENDAR