BEGIN:VCALENDAR
VERSION:2.0
PRODID:-//The Sealed Knot - ECPv6.15.20//NONSGML v1.0//EN
CALSCALE:GREGORIAN
METHOD:PUBLISH
X-ORIGINAL-URL:https://www.thesealedknot.org.uk
X-WR-CALDESC:Events for The Sealed Knot
REFRESH-INTERVAL;VALUE=DURATION:PT1H
X-Robots-Tag:noindex
X-PUBLISHED-TTL:PT1H
BEGIN:VTIMEZONE
TZID:Europe/London
BEGIN:DAYLIGHT
TZOFFSETFROM:+0000
TZOFFSETTO:+0100
TZNAME:BST
DTSTART:20250330T010000
END:DAYLIGHT
BEGIN:STANDARD
TZOFFSETFROM:+0100
TZOFFSETTO:+0000
TZNAME:GMT
DTSTART:20251026T010000
END:STANDARD
BEGIN:DAYLIGHT
TZOFFSETFROM:+0000
TZOFFSETTO:+0100
TZNAME:BST
DTSTART:20260329T010000
END:DAYLIGHT
BEGIN:STANDARD
TZOFFSETFROM:+0100
TZOFFSETTO:+0000
TZNAME:GMT
DTSTART:20261025T010000
END:STANDARD
BEGIN:DAYLIGHT
TZOFFSETFROM:+0000
TZOFFSETTO:+0100
TZNAME:BST
DTSTART:20270328T010000
END:DAYLIGHT
BEGIN:STANDARD
TZOFFSETFROM:+0100
TZOFFSETTO:+0000
TZNAME:GMT
DTSTART:20271031T010000
END:STANDARD
END:VTIMEZONE
BEGIN:VEVENT
DTSTART;VALUE=DATE:20260808
DTEND;VALUE=DATE:20260810
DTSTAMP:20260425T222025
CREATED:20251124T102422Z
LAST-MODIFIED:20260405T152307Z
UID:10001184-1786147200-1786319999@www.thesealedknot.org.uk
SUMMARY:Battle of Coleford
DESCRIPTION:Battle of Coleford 1643  –  an English Civil War conflict in the Forest of Dean\, Gloucestershire\nTwo quite different days portraying the events of 20th February 1643 when a Royalist Army\, raised around Raglan was en-route to lay siege to Gloucester but diverted to Coleford to destroy a Parliamentary militia regiment consisting of local men who were responsible for protecting communities in the Forest of Dean. \nOn Saturday\, 8th August 2026 there will be a portrayal of what happened\, where it actually happened  –  in and around the Market Place.  You will witness the conflict at close quarters but will be asked\, for your own safety\, to remain on the pavements and follow the directions of stewards and Sealed Knot members. \nOn Sunday\, 9th August 2026 there will be a battle re-enactment on the Angus Buchanan VC Trust recreational grounds on Victoria Road\, Coleford\, GL16 8QT.  There will be a living history encampment where you can experience life in the mid-17th Century and also arena displays involving pike\, musket and artillery. \nEvent Opening Times \nSaturday\, 8th August 2026   1.30pm to 4.00pm. \nSunday\, 9th August 2026     11.00am to 4.30pm \nEntrance Fee  \nThis event is free entrance. \nPerformance Times and Activities \nThe living history site will be open on the Sunday only\, prior to the battle\, from 11.00am. \nYou will have an opportunity to wander round the village and observe how an army on the march lived and perhaps take part in our ‘have a go’ activities.  You will experience the sights\, sounds and smells of 17th Century life at close hand.  The main battle will start at 2.00pm. \nFood and Drink \nThere will be no food traders on site so bring a picnic and make a day of it.  There are lots of shops\, restaurants\, take aways\, supermarkets and pubs within walking distance of the event site. \nWord of caution \nBattle re-enactments can be very noisy\, with canon and musketfire\, so keep this in mind with regard to small children and dogs.  We also suggest that you bring chairs for everyone\, particularly for those with mobility issues\, and ear defenders for those with sensitive hearing.
URL:https://www.thesealedknot.org.uk/event/coleford/
LOCATION:Cheshire
END:VEVENT
END:VCALENDAR