BEGIN:VCALENDAR
VERSION:2.0
PRODID:-//The Sealed Knot - ECPv6.15.20//NONSGML v1.0//EN
CALSCALE:GREGORIAN
METHOD:PUBLISH
X-WR-CALNAME:The Sealed Knot
X-ORIGINAL-URL:https://www.thesealedknot.org.uk
X-WR-CALDESC:Events for The Sealed Knot
REFRESH-INTERVAL;VALUE=DURATION:PT1H
X-Robots-Tag:noindex
X-PUBLISHED-TTL:PT1H
BEGIN:VTIMEZONE
TZID:Europe/London
BEGIN:DAYLIGHT
TZOFFSETFROM:+0000
TZOFFSETTO:+0100
TZNAME:BST
DTSTART:20250330T010000
END:DAYLIGHT
BEGIN:STANDARD
TZOFFSETFROM:+0100
TZOFFSETTO:+0000
TZNAME:GMT
DTSTART:20251026T010000
END:STANDARD
BEGIN:DAYLIGHT
TZOFFSETFROM:+0000
TZOFFSETTO:+0100
TZNAME:BST
DTSTART:20260329T010000
END:DAYLIGHT
BEGIN:STANDARD
TZOFFSETFROM:+0100
TZOFFSETTO:+0000
TZNAME:GMT
DTSTART:20261025T010000
END:STANDARD
BEGIN:DAYLIGHT
TZOFFSETFROM:+0000
TZOFFSETTO:+0100
TZNAME:BST
DTSTART:20270328T010000
END:DAYLIGHT
BEGIN:STANDARD
TZOFFSETFROM:+0100
TZOFFSETTO:+0000
TZNAME:GMT
DTSTART:20271031T010000
END:STANDARD
END:VTIMEZONE
BEGIN:VEVENT
DTSTART;VALUE=DATE:20260524
DTEND;VALUE=DATE:20260526
DTSTAMP:20260421T113252
CREATED:20251124T101456Z
LAST-MODIFIED:20260203T140756Z
UID:10001182-1779580800-1779753599@www.thesealedknot.org.uk
SUMMARY:Colchester Living History Festival
DESCRIPTION:About this event \nSiege of Colchester (1648): Royalist commanders Sir George Lisle and Sir Charles Lucas led a determined defence of Colchester against Parliamentarian forces under Sir Thomas Fairfax\, but after a brutal siege the town fell\, sealing a decisive Parliamentarian victory in the English Civil War. \n \nA FULL DAY OF INTERACTIVE HISTORY FOR ALL THE FAMILY 24th & 25th OF MAY 2026. \nJoin The Sealed Knot as we explore what it was like to live\, and fight during the English Civil War. \nSpend the day exploring our Living history encampment and taking part in our activities and arena displays including the grand battle finale. \nWitness the spectacle of a battlefield complete with hundreds of infantry\, artillery and cavalry troops as the Parliament army attempts to take this Royalist stronghold. \nLocation: Alresford Hall\, Nr Colchester\, Essex Public entrance: CO7 8AP \nEvent Opening Times. \nSunday 24th of May 2026 10am – 4pm \nMonday 25th of May 2026 10am – 4pm \nPerformance Times \nTBC\n \nOur arena and timetabled displays are all included in your ticket price. \nAn opportunity to discover how the troops of a 17th century army worked as well as get involved and discover if you’ve got what it takes! Learn\, see and experience the sights and sounds of the English civil war as we bring history to life. The main battle starts at 2pm. \nAll Day Activities \nOur Living History camp and activities tent will be open all day for you to explore alongside the performance displays. Relive History and immerse yourself in the 17th century discovering facts about the past and what it meant for the people of England as civil war raged around them. \n\nSee displays of English Civil War weapons and tactics.\nGet up close with the horses and Calvery.\nExplore Civilian life in our Living History camp.\nTake part in our ‘have a go’ activities.\nComplete our kids activity sheets and treasure hunts.\nWatch a display of drums and colours.\nWitness the spectacle of our main battle.\n\nFood and Drink \nFood and drink vendors are available on site\, or feel free to bring a picnic and enjoy your lunch whilst immersed in history. \nTickets
URL:https://www.thesealedknot.org.uk/event/alresford-hall/
LOCATION:Alresford Hall
END:VEVENT
END:VCALENDAR