BEGIN:VCALENDAR
VERSION:2.0
PRODID:-//The Sealed Knot - ECPv6.15.20//NONSGML v1.0//EN
CALSCALE:GREGORIAN
METHOD:PUBLISH
X-ORIGINAL-URL:https://www.thesealedknot.org.uk
X-WR-CALDESC:Events for The Sealed Knot
REFRESH-INTERVAL;VALUE=DURATION:PT1H
X-Robots-Tag:noindex
X-PUBLISHED-TTL:PT1H
BEGIN:VTIMEZONE
TZID:Europe/London
BEGIN:DAYLIGHT
TZOFFSETFROM:+0000
TZOFFSETTO:+0100
TZNAME:BST
DTSTART:20250330T010000
END:DAYLIGHT
BEGIN:STANDARD
TZOFFSETFROM:+0100
TZOFFSETTO:+0000
TZNAME:GMT
DTSTART:20251026T010000
END:STANDARD
BEGIN:DAYLIGHT
TZOFFSETFROM:+0000
TZOFFSETTO:+0100
TZNAME:BST
DTSTART:20260329T010000
END:DAYLIGHT
BEGIN:STANDARD
TZOFFSETFROM:+0100
TZOFFSETTO:+0000
TZNAME:GMT
DTSTART:20261025T010000
END:STANDARD
BEGIN:DAYLIGHT
TZOFFSETFROM:+0000
TZOFFSETTO:+0100
TZNAME:BST
DTSTART:20270328T010000
END:DAYLIGHT
BEGIN:STANDARD
TZOFFSETFROM:+0100
TZOFFSETTO:+0000
TZNAME:GMT
DTSTART:20271031T010000
END:STANDARD
END:VTIMEZONE
BEGIN:VEVENT
DTSTART;VALUE=DATE:20260725
DTEND;VALUE=DATE:20260727
DTSTAMP:20260421T132015
CREATED:20251124T102316Z
LAST-MODIFIED:20260405T181514Z
UID:10001183-1784937600-1785110399@www.thesealedknot.org.uk
SUMMARY:Hartlebury Castle
DESCRIPTION:About this event \nHARTLEBURY CASTLE – an English Civil War conflict in Worcestershire. \nA FULL DAY OF INTERACTIVE HISTORY FOR ALL THE FAMILY 25th & 26th OF JULY 2026. \nOn the 380th anniversary of the fall of Hartlebury Castle to Parliamentarian forces\, join The Sealed Knot as we explore what it was like to live\, and fight during the English Civil War. \nSpend the day exploring our Living history encampment and taking part in our activities and arena displays including the grand battle finale. \nWitness the spectacle of a battlefield complete with hundreds of infantry\, artillery and cavalry troops as the Parliament forces attempt to take this Royalist stronghold. \nLocation: Hartlebury Castle\, Worcestershire. Public entrance: DY11 7XZ \nEvent Opening Times. \n11am-5pm Saturday 25th and Sunday 26th of July 2026 \nPerformance Times \nOur arena and timetabled displays are all included in your ticket price. \nAn opportunity to discover how the troops of a 17th century army worked as well as get involved and discover if you’ve got what it takes! Learn\, see and experience the sights and sounds of the English civil war as we bring history to life. The main battle starts around 2pm. \nAll Day Activities \nOur Living History camp and activities tent will be open from 11am for you to explore alongside the performance displays. Relive History and immerse yourself in the 17th century discovering facts about the past and what it meant for the people of England as civil war raged around them. \n\nSee displays of English Civil War weapons and tactics.\nExplore Civilian life in our Living History camp.\nTake part in our ‘have a go’ activities.\nComplete our kids activity sheets and treasure hunts.\nMeet the Cavalry horses.\nWitness the spectacle of our main battle.\n\nFood and Drink \nHayley’s Kitchen café is available on site\, or feel free to bring a picnic and enjoy your lunch whilst immersed in history. \nTicket Prices \nTBC \nPlease Note: Due to the nature of our displays\, loud noises from canon and musket are a common occurrence\, please bear that in mind when looking to bring small children and dogs. We always advise bringing chairs for anyone who may have mobility issues\, and ear defenders for individuals with sensitivities to loud noise.
URL:https://www.thesealedknot.org.uk/event/hartlebury-castle-3/
LOCATION:Hartlebury Castle\, Hartlebury\, Kidderminster\, Worcestershire\, DY11 7XZ\, United Kingdom
END:VEVENT
END:VCALENDAR